BEGIN:VCALENDAR
VERSION:2.0
PRODID:-//theSUITE - Learn without limits - ECPv6.11.0.1//NONSGML v1.0//EN
CALSCALE:GREGORIAN
METHOD:PUBLISH
X-WR-CALNAME:theSUITE - Learn without limits
X-ORIGINAL-URL:https://global.samsungsuite.com
X-WR-CALDESC:Events for theSUITE - Learn without limits
REFRESH-INTERVAL;VALUE=DURATION:PT1H
X-Robots-Tag:noindex
X-PUBLISHED-TTL:PT1H
BEGIN:VTIMEZONE
TZID:Europe/London
BEGIN:DAYLIGHT
TZOFFSETFROM:+0000
TZOFFSETTO:+0100
TZNAME:BST
DTSTART:20250330T010000
END:DAYLIGHT
BEGIN:STANDARD
TZOFFSETFROM:+0100
TZOFFSETTO:+0000
TZNAME:GMT
DTSTART:20251026T010000
END:STANDARD
END:VTIMEZONE
BEGIN:VEVENT
DTSTART;TZID=Europe/London:20250612T143000
DTEND;TZID=Europe/London:20250612T153000
DTSTAMP:20260421T051719
CREATED:20250521T082807Z
LAST-MODIFIED:20250521T082807Z
UID:21888-1749738600-1749742200@global.samsungsuite.com
SUMMARY:AI-powered echocardiography: The future of cardiac imaging
DESCRIPTION:
URL:https://global.samsungsuite.com/calendar/ai-powered-echocardiography-the-future-of-cardiac-imaging/
CATEGORIES:Webinar
ATTACH;FMTTYPE=image/webp:https://thesuite-contents.s3.ap-northeast-2.amazonaws.com/wp-content/uploads/2024/11/02115748/Samsung_Logo_Wordmark_RGB_black.webp
LOCATION:
END:VEVENT
END:VCALENDAR