BEGIN:VCALENDAR
VERSION:2.0
PRODID:-//theSUITE - Learn without limits - ECPv6.11.0.1//NONSGML v1.0//EN
CALSCALE:GREGORIAN
METHOD:PUBLISH
X-WR-CALNAME:theSUITE - Learn without limits
X-ORIGINAL-URL:https://global.samsungsuite.com
X-WR-CALDESC:Events for theSUITE - Learn without limits
REFRESH-INTERVAL;VALUE=DURATION:PT1H
X-Robots-Tag:noindex
X-PUBLISHED-TTL:PT1H
BEGIN:VTIMEZONE
TZID:Asia/Seoul
BEGIN:STANDARD
TZOFFSETFROM:+0900
TZOFFSETTO:+0900
TZNAME:KST
DTSTART:20240101T000000
END:STANDARD
END:VTIMEZONE
BEGIN:VTIMEZONE
TZID:Europe/Rome
BEGIN:DAYLIGHT
TZOFFSETFROM:+0100
TZOFFSETTO:+0200
TZNAME:CEST
DTSTART:20240331T010000
END:DAYLIGHT
BEGIN:STANDARD
TZOFFSETFROM:+0200
TZOFFSETTO:+0100
TZNAME:CET
DTSTART:20241027T010000
END:STANDARD
END:VTIMEZONE
BEGIN:VEVENT
DTSTART;VALUE=DATE:20241207
DTEND;VALUE=DATE:20241209
DTSTAMP:20260422T102741
CREATED:20240906T101820Z
LAST-MODIFIED:20241004T060356Z
UID:10000015-1733529600-1733702399@global.samsungsuite.com
SUMMARY:FMF Advances Course 2024
DESCRIPTION:
URL:https://global.samsungsuite.com/calendar/fmf-advances-course-2024/
LOCATION:FMF\, Wembley Stadium - The Great Hall. Wembley Park\, Wembley HA9 0W\, Wembley\, United Kingdom
CATEGORIES:Exhibition / Congress
ATTACH;FMTTYPE=image/png:https://thesuite-contents.s3.ap-northeast-2.amazonaws.com/wp-content/uploads/2024/09/02120142/FMF.png
END:VEVENT
BEGIN:VEVENT
DTSTART;VALUE=DATE:20241201
DTEND;VALUE=DATE:20241206
DTSTAMP:20260422T102741
CREATED:20240906T101259Z
LAST-MODIFIED:20241107T072629Z
UID:10000014-1733011200-1733443199@global.samsungsuite.com
SUMMARY:RSNA 2024
DESCRIPTION:
URL:https://global.samsungsuite.com/calendar/rsna-2024/
LOCATION:RSNA\, McCormick place\, 2301 S Martin Luther King Dr\, Chicago\, IL\, 60616\, United States
CATEGORIES:Exhibition / Congress
ATTACH;FMTTYPE=image/png:https://thesuite-contents.s3.ap-northeast-2.amazonaws.com/wp-content/uploads/2024/09/02120142/RSNA.png
END:VEVENT
BEGIN:VEVENT
DTSTART;VALUE=DATE:20241121
DTEND;VALUE=DATE:20241123
DTSTAMP:20260422T102741
CREATED:20240906T102641Z
LAST-MODIFIED:20241004T060351Z
UID:10000016-1732147200-1732319999@global.samsungsuite.com
SUMMARY:Asia Pacific Congress in Maternal Fetal Medicine 2024
DESCRIPTION:
URL:https://global.samsungsuite.com/calendar/asia-pacific-congress-in-maternal-fetal-medicine-2024/
LOCATION:APCMFM\, Eastin Grand Hotel Phayathai\, Bankok\, Thailand
CATEGORIES:Exhibition / Congress
ATTACH;FMTTYPE=image/png:https://thesuite-contents.s3.ap-northeast-2.amazonaws.com/wp-content/uploads/2024/09/02120141/APCMFM.png
END:VEVENT
BEGIN:VEVENT
DTSTART;VALUE=DATE:20241109
DTEND;VALUE=DATE:20241112
DTSTAMP:20260422T102741
CREATED:20240906T100345Z
LAST-MODIFIED:20241010T065118Z
UID:10000013-1731110400-1731369599@global.samsungsuite.com
SUMMARY:EUROSON 2024
DESCRIPTION:
URL:https://global.samsungsuite.com/calendar/euroson-2024/
LOCATION:EUROSOn\, Congress Centre Stazione Marittima\, Naples\, Italy
CATEGORIES:Exhibition / Congress
ATTACH;FMTTYPE=image/png:https://thesuite-contents.s3.ap-northeast-2.amazonaws.com/wp-content/uploads/2024/09/02120142/EUROSON.png
END:VEVENT
BEGIN:VEVENT
DTSTART;VALUE=DATE:20241107
DTEND;VALUE=DATE:20241109
DTSTAMP:20260422T102741
CREATED:20240906T090357Z
LAST-MODIFIED:20240906T090357Z
UID:10000012-1730937600-1731110399@global.samsungsuite.com
SUMMARY:110th Annual Congress of Korean Society of Obstetrics and Gynecology (KSOG)
DESCRIPTION:
URL:https://global.samsungsuite.com/calendar/110th-annual-congress-of-korean-society-of-obstetrics-and-gynecology-ksog/
LOCATION:KSOG\, Suwon Convention Center\, 140\, Gwanggyojungang-ro\, Yeongtong-gu\, Suwon\, Gyeonggi-do\, 16514\, Korea\, Republic of
CATEGORIES:Exhibition / Congress
ATTACH;FMTTYPE=image/png:https://thesuite-contents.s3.ap-northeast-2.amazonaws.com/wp-content/uploads/2024/09/02120143/KSOG.png
ORGANIZER;CN="KSOG":MAILTO:office@ksog.org
END:VEVENT
BEGIN:VEVENT
DTSTART;VALUE=DATE:20241018
DTEND;VALUE=DATE:20241020
DTSTAMP:20260422T102741
CREATED:20240906T085305Z
LAST-MODIFIED:20241010T064659Z
UID:10000011-1729209600-1729382399@global.samsungsuite.com
SUMMARY:The 80th Korean Congress of Radiology (KCR 2024)
DESCRIPTION:
URL:https://global.samsungsuite.com/calendar/the-80th-korean-congress-of-radiology-kcr-2024/
LOCATION:COEX\, COEX\, 513\, Yeongdong-daero\, Gangnam-gu\, Seoul\, Korea\, Republic of
CATEGORIES:Exhibition / Congress
ATTACH;FMTTYPE=image/png:https://thesuite-contents.s3.ap-northeast-2.amazonaws.com/wp-content/uploads/2024/09/02120143/KCR.png
ORGANIZER;CN="The Korean Society of Radiology":MAILTO:ask@kcr4u.org
END:VEVENT
BEGIN:VEVENT
DTSTART;VALUE=DATE:20241011
DTEND;VALUE=DATE:20241013
DTSTAMP:20260422T102741
CREATED:20240906T104144Z
LAST-MODIFIED:20241004T055106Z
UID:10000018-1728604800-1728777599@global.samsungsuite.com
SUMMARY:HSMFM 2024
DESCRIPTION:
URL:https://global.samsungsuite.com/calendar/hsmfm-2024/
LOCATION:HSMFM\, Sheraton Sài Gòn Hotel\, Ho Chi Minh\, Viet Nam
CATEGORIES:Exhibition / Congress
ATTACH;FMTTYPE=image/png:https://thesuite-contents.s3.ap-northeast-2.amazonaws.com/wp-content/uploads/2024/09/02120141/HSMFM.png
END:VEVENT
BEGIN:VEVENT
DTSTART;VALUE=DATE:20240926
DTEND;VALUE=DATE:20240929
DTSTAMP:20260422T102741
CREATED:20240906T105734Z
LAST-MODIFIED:20241004T060341Z
UID:10000023-1727308800-1727567999@global.samsungsuite.com
SUMMARY:Twins Congress 2024
DESCRIPTION:
URL:https://global.samsungsuite.com/calendar/twins-congress-2024/
LOCATION:Twins\, BV GRAND HOTEL\, Assisi\, Italy
CATEGORIES:Exhibition / Congress
ATTACH;FMTTYPE=image/png:https://thesuite-contents.s3.ap-northeast-2.amazonaws.com/wp-content/uploads/2024/09/02120138/Twins-Congress.png
END:VEVENT
BEGIN:VEVENT
DTSTART;TZID=Europe/Rome:20240925T090000
DTEND;TZID=Europe/Rome:20240928T170000
DTSTAMP:20260422T102741
CREATED:20240906T084652Z
LAST-MODIFIED:20241004T060336Z
UID:10000010-1727254800-1727542800@global.samsungsuite.com
SUMMARY:2024 SMFM Global Congress
DESCRIPTION:
URL:https://global.samsungsuite.com/calendar/2024-smfm-global-congress/
LOCATION:SMFM\, Auditorium Parco della Musica\, Via Pietro de Coubertin 30\, Roma\, Rome\, 00196\, Italy
CATEGORIES:Exhibition / Congress
ATTACH;FMTTYPE=image/png:https://thesuite-contents.s3.ap-northeast-2.amazonaws.com/wp-content/uploads/2024/09/02120143/SMFM.png
ORGANIZER;CN="SMFM":MAILTO:globalcongress@smfm.org
END:VEVENT
BEGIN:VEVENT
DTSTART;VALUE=DATE:20240918
DTEND;VALUE=DATE:20240922
DTSTAMP:20260422T102741
CREATED:20240906T083935Z
LAST-MODIFIED:20241010T064219Z
UID:10000009-1726617600-1726963199@global.samsungsuite.com
SUMMARY:EVDI Congress 2024
DESCRIPTION:
URL:https://global.samsungsuite.com/calendar/evdi-congress-2024/
LOCATION:Athens\, Athens\, Greece
CATEGORIES:Exhibition / Congress
ATTACH;FMTTYPE=image/png:https://thesuite-contents.s3.ap-northeast-2.amazonaws.com/wp-content/uploads/2024/09/02120144/EDVI.png
ORGANIZER;CN="EVDI":MAILTO:info@evdi-congress.eu
END:VEVENT
BEGIN:VEVENT
DTSTART;VALUE=DATE:20240915
DTEND;VALUE=DATE:20240921
DTSTAMP:20260422T102741
CREATED:20240906T081634Z
LAST-MODIFIED:20250604T025151Z
UID:10000008-1726358400-1726876799@global.samsungsuite.com
SUMMARY:2024 50th Annual Meeting: ISS Musculoskeletal Diagnostic Meeting
DESCRIPTION:
URL:https://global.samsungsuite.com/calendar/2024-50th-annual-meeting-iss-musculoskeletal-diagnostic-meeting/
LOCATION:Le Centre Sheraton Montreal Hotel\, Le Centre Sheraton Montreal Hotel\, Montreal\, Quebec\, Canada
CATEGORIES:Exhibition / Congress
ATTACH;FMTTYPE=image/png:https://thesuite-contents.s3.ap-northeast-2.amazonaws.com/wp-content/uploads/2024/09/02120144/ISS.png
ORGANIZER;CN="ISS":MAILTO:info@internationalskeletalsociety.com.
END:VEVENT
BEGIN:VEVENT
DTSTART;VALUE=DATE:20240915
DTEND;VALUE=DATE:20240919
DTSTAMP:20260422T102741
CREATED:20240906T081154Z
LAST-MODIFIED:20241010T063800Z
UID:10000007-1726358400-1726703999@global.samsungsuite.com
SUMMARY:ISUOG World Congress 2024
DESCRIPTION:
URL:https://global.samsungsuite.com/calendar/isuog-world-congress-2024/
LOCATION:Hungexpo Congress and Exhibition Centre\, Hungexpo Congress and Exhibition Centre\, 1101 Budapest\, Albertirsai út 10\, Budapest\, Hungary
CATEGORIES:Exhibition / Congress
ATTACH;FMTTYPE=image/png:https://thesuite-contents.s3.ap-northeast-2.amazonaws.com/wp-content/uploads/2024/09/02120145/ISUOG.png
ORGANIZER;CN="ISOUG":MAILTO:info@isuog.org
END:VEVENT
BEGIN:VEVENT
DTSTART;VALUE=DATE:20240912
DTEND;VALUE=DATE:20240915
DTSTAMP:20260422T102741
CREATED:20240906T075536Z
LAST-MODIFIED:20241010T064051Z
UID:10000006-1726099200-1726358399@global.samsungsuite.com
SUMMARY:ESHNR
DESCRIPTION:
URL:https://global.samsungsuite.com/calendar/eshnr/
LOCATION:Slagthuset\, Slagthuset\, Jörgen Kocksgatan 7\, Malmö\, 211 20\, Sweden
CATEGORIES:Exhibition / Congress
ATTACH;FMTTYPE=image/png:https://thesuite-contents.s3.ap-northeast-2.amazonaws.com/wp-content/uploads/2024/09/02120145/ESHNR.png
ORGANIZER;CN="ESHNR":MAILTO:office@eshnr.eu
END:VEVENT
BEGIN:VEVENT
DTSTART;VALUE=DATE:20240905
DTEND;VALUE=DATE:20240908
DTSTAMP:20260422T102741
CREATED:20240906T103611Z
LAST-MODIFIED:20240906T103611Z
UID:10000017-1725494400-1725753599@global.samsungsuite.com
SUMMARY:CONGRESO SOCHUMB 2024
DESCRIPTION:
URL:https://global.samsungsuite.com/calendar/congreso-sochumb-2024/
LOCATION:SOCHUMB\, Santiago\, Chile
CATEGORIES:Exhibition / Congress
ATTACH;FMTTYPE=image/png:https://thesuite-contents.s3.ap-northeast-2.amazonaws.com/wp-content/uploads/2024/09/02120141/SOCHUMB.png
END:VEVENT
BEGIN:VEVENT
DTSTART;VALUE=DATE:20240905
DTEND;VALUE=DATE:20240908
DTSTAMP:20260422T102741
CREATED:20240906T073509Z
LAST-MODIFIED:20241010T063906Z
UID:10000005-1725494400-1725753599@global.samsungsuite.com
SUMMARY:The 34th ECVIM-CA Congress 2024 Lyon
DESCRIPTION:
URL:https://global.samsungsuite.com/calendar/ecvim/
LOCATION:La Cité Centre de Congrès\, La Cité Centre de Congrès\, 50 quai Charles de Gaulle\, Lyon\, 69006\, France
CATEGORIES:Exhibition / Congress
ATTACH;FMTTYPE=image/png:https://thesuite-contents.s3.ap-northeast-2.amazonaws.com/wp-content/uploads/2024/09/02120145/ECVIM.png
ORGANIZER;CN="ECVIM":MAILTO:info@ecvimcongress.org
END:VEVENT
END:VCALENDAR