BEGIN:VCALENDAR
VERSION:2.0
PRODID:-//theSUITE - Learn without limits - ECPv6.11.0.1//NONSGML v1.0//EN
CALSCALE:GREGORIAN
METHOD:PUBLISH
X-WR-CALNAME:theSUITE - Learn without limits
X-ORIGINAL-URL:https://global.samsungsuite.com
X-WR-CALDESC:Events for theSUITE - Learn without limits
REFRESH-INTERVAL;VALUE=DURATION:PT1H
X-Robots-Tag:noindex
X-PUBLISHED-TTL:PT1H
BEGIN:VTIMEZONE
TZID:America/Chicago
BEGIN:DAYLIGHT
TZOFFSETFROM:-0600
TZOFFSETTO:-0500
TZNAME:CDT
DTSTART:20250309T080000
END:DAYLIGHT
BEGIN:STANDARD
TZOFFSETFROM:-0500
TZOFFSETTO:-0600
TZNAME:CST
DTSTART:20251102T070000
END:STANDARD
END:VTIMEZONE
BEGIN:VEVENT
DTSTART;TZID=America/Chicago:20251130T120000
DTEND;TZID=America/Chicago:20251130T123000
DTSTAMP:20260421T022405
CREATED:20251113T011728Z
LAST-MODIFIED:20251113T021357Z
UID:28155-1764504000-1764505800@global.samsungsuite.com
SUMMARY:[RSNA] Samsung Booth Hands-on (MSK Live Hands-on)
DESCRIPTION:  \n▶ Register for hands-on \n▶ Location: Samsung booth (#6122\, North Hall)
URL:https://global.samsungsuite.com/calendar/rsna-samsung-booth-hands-on-msk-live-hands-on/
LOCATION:Samsung booth (#6122\, North Hall)\, McCormick Place\, 2301 S. Lake Shore Drive\, Samsung booth (#6122\, North Hall)\, McCormick Place\, 2301 S. Lake Shore Drive\, Chicago\, United States
CATEGORIES:Exhibition / Congress
ATTACH;FMTTYPE=image/png:https://thesuite-contents.s3.ap-northeast-2.amazonaws.com/wp-content/uploads/2025/01/02115658/RSNA.png
END:VEVENT
END:VCALENDAR