BEGIN:VCALENDAR
VERSION:2.0
PRODID:-//theSUITE - Learn without limits - ECPv6.11.0.1//NONSGML v1.0//EN
CALSCALE:GREGORIAN
METHOD:PUBLISH
X-WR-CALNAME:theSUITE - Learn without limits
X-ORIGINAL-URL:https://global.samsungsuite.com
X-WR-CALDESC:Events for theSUITE - Learn without limits
REFRESH-INTERVAL;VALUE=DURATION:PT1H
X-Robots-Tag:noindex
X-PUBLISHED-TTL:PT1H
BEGIN:VTIMEZONE
TZID:Europe/London
BEGIN:DAYLIGHT
TZOFFSETFROM:+0000
TZOFFSETTO:+0100
TZNAME:BST
DTSTART:20240331T010000
END:DAYLIGHT
BEGIN:STANDARD
TZOFFSETFROM:+0100
TZOFFSETTO:+0000
TZNAME:GMT
DTSTART:20241027T010000
END:STANDARD
END:VTIMEZONE
BEGIN:VEVENT
DTSTART;TZID=Europe/London:20241123T080000
DTEND;TZID=Europe/London:20241123T100000
DTSTAMP:20260421T023030
CREATED:20241105T074145Z
LAST-MODIFIED:20241122T070115Z
UID:17760-1732348800-1732356000@global.samsungsuite.com
SUMMARY:Samsung Webinar (Europe) - The Latest Innovations in Fetal Imaging
DESCRIPTION:
URL:https://global.samsungsuite.com/calendar/samsung-webinar-the-latest-innovations-in-fetal-imaging-europe/
CATEGORIES:Webinar
ATTACH;FMTTYPE=image/webp:https://thesuite-contents.s3.ap-northeast-2.amazonaws.com/wp-content/uploads/2024/11/02115748/Samsung_Logo_Wordmark_RGB_black.webp
END:VEVENT
END:VCALENDAR